BEGIN:VCALENDAR
VERSION:2.0
PRODID:-//Motorrad Academy - ECPv6.15.20//NONSGML v1.0//EN
CALSCALE:GREGORIAN
METHOD:PUBLISH
X-WR-CALNAME:Motorrad Academy
X-ORIGINAL-URL:https://motorradacademy.de
X-WR-CALDESC:Veranstaltungen für Motorrad Academy
REFRESH-INTERVAL;VALUE=DURATION:PT1H
X-Robots-Tag:noindex
X-PUBLISHED-TTL:PT1H
BEGIN:VTIMEZONE
TZID:UTC
BEGIN:STANDARD
TZOFFSETFROM:+0000
TZOFFSETTO:+0000
TZNAME:UTC
DTSTART:20250101T000000
END:STANDARD
END:VTIMEZONE
BEGIN:VEVENT
DTSTART;TZID=UTC:20260412T110000
DTEND;TZID=UTC:20260412T170000
DTSTAMP:20260422T083903
CREATED:20260330T153138Z
LAST-MODIFIED:20260330T153946Z
UID:1246-1775991600-1776013200@motorradacademy.de
SUMMARY:Limbächer Saisonstart
DESCRIPTION:am 11. und 12. April ist es so weit. Limbächer läd Euch ein zum großen Saisonstart-Wochenende nach Filderstadt zu kommen! Sa. von 10 bis 17 Uhr und So. von 11 bis 17 Uhr \n  \nGeparkt werden kann natürlich auf den Limbächer Parkplätzen sowie zusätzlich auf den Parkflächen beim TÜV in der Karl-Benz-Straße. \nAn beiden Tagen wird einiges geboten: \n \n\nNeuheiten der Saison 2026\nProbefahrtevent\n\nWheelie-Simulator für das ultimative Adrenalin-Erlebnis\nLive-Band \nSektempfang\, Bistro & Foodtrucks (z.B. Burger\, Streetfood\, Rote\, Crêpes\, Eis)\n\nCoole Partner Stände (Biker vs Cancer\, Rennleitung 110\, Fahrschule Projekt F\, Racetrck\, Speer Motorradreisen\, Ducati Club Baden-Württemberg E.V.\, Stilwelten)\n\nGlücksrad mit tollen Gewinnen\nFotobox für unvergessliche Erinnerungen\nKinderkartbahn\, Kinderschminken\, Airbrush und Hüpfburg \nBekleidungsaktionen im Held Center\n\nKlaus Limbächer und Fabio Limbächer\, \nsowie das gesamte Limbächer Team freuen sich auf Euren Besuch.\n\n\n\n\n\n\n\n\n\n\n\n\n\n\nBike der Woche\n\n\n\n\nDucati Streetfighter V2\nDucati hat die ‚Fight Formula‘ auf die leichteste Panigale aller Zeiten angewendet\, um die leichteste Streetfighter zu schaffen. Ein Naked-Bike\, welches aufregend auf der Straße ist und Hochleistungen auf der Rennstrecke liefert. Die Formel ist sehr einfach: 890 cm³ großer Motor\, Panigale V2-Chassis\, 175 kg Gewicht\, breiter und hoher Lenker und keine Verkleidung\, die als Filter zwischen dem Fahrer und den Elementen agiert. \n\n\n\n15.789\,– €
URL:https://motorradacademy.de/event/limbaecher-saisonstart-2/
CATEGORIES:Händler Event
ATTACH;FMTTYPE=image/jpeg:https://motorradacademy.de/wp-content/uploads/2026/03/saisonstart_2026_fil_1250x800px_1-e1774883461447.jpg
END:VEVENT
BEGIN:VEVENT
DTSTART;TZID=UTC:20260411T100000
DTEND;TZID=UTC:20260411T170000
DTSTAMP:20260422T083903
CREATED:20260330T151815Z
LAST-MODIFIED:20260330T152226Z
UID:1241-1775901600-1775926800@motorradacademy.de
SUMMARY:Limbächer Saisonstart
DESCRIPTION:am 11. und 12. April ist es so weit. Limbächer läd Euch ein zum großen Saisonstart-Wochenende nach Filderstadt zu kommen! Sa. von 10 bis 17 Uhr und So. von 11 bis 17 Uhr \n  \nGeparkt werden kann natürlich auf den Limbächer Parkplätzen sowie zusätzlich auf den Parkflächen beim TÜV in der Karl-Benz-Straße. \nAn beiden Tagen wird einiges geboten: \n \n\nNeuheiten der Saison 2026\nProbefahrtevent\n\nWheelie-Simulator für das ultimative Adrenalin-Erlebnis\nLive-Band \nSektempfang\, Bistro & Foodtrucks (z.B. Burger\, Streetfood\, Rote\, Crêpes\, Eis)\n\nCoole Partner Stände (Biker vs Cancer\, Rennleitung 110\, Fahrschule Projekt F\, Racetrck\, Speer Motorradreisen\, Ducati Club Baden-Württemberg E.V.\, Stilwelten)\n\nGlücksrad mit tollen Gewinnen\nFotobox für unvergessliche Erinnerungen\nKinderkartbahn\, Kinderschminken\, Airbrush und Hüpfburg \nBekleidungsaktionen im Held Center\n\nKlaus Limbächer und Fabio Limbächer\n \nsowie das gesamte Limbächer Team freuen sich auf Euren Besuch.\n\n\n\n\n\n\n\n\n\n\n\n\n\n\nBike der Woche\n\n\n\n\nDucati Streetfighter V2\nDucati hat die ‚Fight Formula‘ auf die leichteste Panigale aller Zeiten angewendet\, um die leichteste Streetfighter zu schaffen. Ein Naked-Bike\, welches aufregend auf der Straße ist und Hochleistungen auf der Rennstrecke liefert. Die Formel ist sehr einfach: 890 cm³ großer Motor\, Panigale V2-Chassis\, 175 kg Gewicht\, breiter und hoher Lenker und keine Verkleidung\, die als Filter zwischen dem Fahrer und den Elementen agiert. \n\n\n\n15.789\,– €
URL:https://motorradacademy.de/event/limbaecher-saisonstart/
LOCATION:Limbächer & Limbächer GmbH\, Echterdinger Straße 85\, Filderstadt-Bernhausen\, Baden-Württemberg\, 70794 \, Germany
CATEGORIES:Händler Event
ATTACH;FMTTYPE=image/jpeg:https://motorradacademy.de/wp-content/uploads/2026/03/saisonstart_2026_fil_1250x800px_1-e1774883461447.jpg
END:VEVENT
BEGIN:VEVENT
DTSTART;TZID=UTC:20260307T100000
DTEND;TZID=UTC:20260307T170000
DTSTAMP:20260422T083903
CREATED:20260306T152512Z
LAST-MODIFIED:20260306T152512Z
UID:1171-1772877600-1772902800@motorradacademy.de
SUMMARY:Ride & Relax
DESCRIPTION:Ride & Relax-Event\n\n\n\n\n\n\n\nAm 07.03.2026 von 10 bis 17 Uhr erwartet dich beim  „Ride & Relax“-Event der Firma Limbächer ein ganz besonderes Highlight. Freu dich auf starke Bikes\, entspannte Atmosphäre und eine exklusive Aktion\, die Fahrspaß und Erholung perfekt miteinander verbindet. \nAm „Ride & Relax“-Event erwartet dich: \n\nVerkaufsaktion mit Wellness-Bonus\n\nBeim Kauf eines Motorrads ab 5.000 € schenken gibt es einen Gutschein für ein Wellnesswochenende für zwei Personen im bora HotSpaResort.\n\n\nKostenloser Frühjahrescheck für dein Motorrad\nTriumph Neufahrzeugvorstellungen (bei Triumph Stuttgart)\nGlücksrad \nFotobox\nZigarren- & Whisky-Tasting\nKinderschminken & Airbrush für unsere kleinsten Gäste\n\n  \nWeitere Aussteller: \n\n\n\n\nDOC (Ducati Club BW) \n\n\nRacetrack  \n\n\nBiker vs. Cancer \n\n\nSattler Mark Lorch \n\n\nBernys Drive Academy \n\n\n\n\n  \nFür deine Verpflegung ist wie immer gesorgt \n\n\n\nFoodtrucks:\n\nKesselKitchen (Burger & Fries)\nAltenrieter Holzofenbäcker (Flammkuchen)\n\n\nSektempfang\nRote Wurst für 1 € (bei Triumph Stuttgart)\n\n\n\nKomm vorbei und erlebe einen entspannten\, abwechslungsreichen Tag rund ums Bike\, wir freuen uns auf dich!
URL:https://motorradacademy.de/event/ride-relax/
LOCATION:Limbächer & Limbächer GmbH\, Echterdinger Straße 85\, Filderstadt-Bernhausen\, Baden-Württemberg\, 70794 \, Germany
CATEGORIES:Händler Event
ATTACH;FMTTYPE=image/webp:https://motorradacademy.de/wp-content/uploads/2026/03/Newsmeldung_Ride_Relax_Filderstadt.webp
END:VEVENT
END:VCALENDAR